BEGIN:VCALENDAR
VERSION:2.0
PRODID:-//Memoria Medieval Heram - ECPv6.15.16//NONSGML v1.0//EN
CALSCALE:GREGORIAN
METHOD:PUBLISH
X-WR-CALNAME:Memoria Medieval Heram
X-ORIGINAL-URL:https://asso-medievale.fr
X-WR-CALDESC:Évènements pour Memoria Medieval Heram
REFRESH-INTERVAL;VALUE=DURATION:PT1H
X-Robots-Tag:noindex
X-PUBLISHED-TTL:PT1H
BEGIN:VTIMEZONE
TZID:Europe/Paris
BEGIN:DAYLIGHT
TZOFFSETFROM:+0100
TZOFFSETTO:+0200
TZNAME:CEST
DTSTART:20230326T010000
END:DAYLIGHT
BEGIN:STANDARD
TZOFFSETFROM:+0200
TZOFFSETTO:+0100
TZNAME:CET
DTSTART:20231029T010000
END:STANDARD
BEGIN:DAYLIGHT
TZOFFSETFROM:+0100
TZOFFSETTO:+0200
TZNAME:CEST
DTSTART:20240331T010000
END:DAYLIGHT
BEGIN:STANDARD
TZOFFSETFROM:+0200
TZOFFSETTO:+0100
TZNAME:CET
DTSTART:20241027T010000
END:STANDARD
BEGIN:DAYLIGHT
TZOFFSETFROM:+0100
TZOFFSETTO:+0200
TZNAME:CEST
DTSTART:20250330T010000
END:DAYLIGHT
BEGIN:STANDARD
TZOFFSETFROM:+0200
TZOFFSETTO:+0100
TZNAME:CET
DTSTART:20251026T010000
END:STANDARD
END:VTIMEZONE
BEGIN:VEVENT
DTSTART;VALUE=DATE:20240210
DTEND;VALUE=DATE:20240212
DTSTAMP:20260423T173542
CREATED:20231219T204230Z
LAST-MODIFIED:20231219T204230Z
UID:329-1707537600-1707695999@asso-medievale.fr
SUMMARY:Festival du Manga de la Côte de Granit Rose 2024
DESCRIPTION:Cette rencontre sur le thème du Manga revient en 2024 pour une seconde édition qui se déroulera du 10 au 11 février 2024 en présence de mangakas français avec des ateliers de dessin\, des dédicaces et des stages d’initiation au digital (sur inscription). Concours de cosplay le dimanche. Présence d’exposants.
URL:https://asso-medievale.fr/evenement/festival-du-manga-de-la-cote-de-granit-rose-2024/
LOCATION:Trebeurden\, Le Sémaphore 7 - 9 rue des Plages\, Trébeurden\, 22560\, France
END:VEVENT
END:VCALENDAR