BEGIN:VCALENDAR
VERSION:2.0
PRODID:-//Memoria Medieval Heram - ECPv6.15.16//NONSGML v1.0//EN
CALSCALE:GREGORIAN
METHOD:PUBLISH
X-WR-CALNAME:Memoria Medieval Heram
X-ORIGINAL-URL:https://asso-medievale.fr
X-WR-CALDESC:Évènements pour Memoria Medieval Heram
REFRESH-INTERVAL;VALUE=DURATION:PT1H
X-Robots-Tag:noindex
X-PUBLISHED-TTL:PT1H
BEGIN:VTIMEZONE
TZID:Europe/Paris
BEGIN:DAYLIGHT
TZOFFSETFROM:+0100
TZOFFSETTO:+0200
TZNAME:CEST
DTSTART:20230326T010000
END:DAYLIGHT
BEGIN:STANDARD
TZOFFSETFROM:+0200
TZOFFSETTO:+0100
TZNAME:CET
DTSTART:20231029T010000
END:STANDARD
BEGIN:DAYLIGHT
TZOFFSETFROM:+0100
TZOFFSETTO:+0200
TZNAME:CEST
DTSTART:20240331T010000
END:DAYLIGHT
BEGIN:STANDARD
TZOFFSETFROM:+0200
TZOFFSETTO:+0100
TZNAME:CET
DTSTART:20241027T010000
END:STANDARD
BEGIN:DAYLIGHT
TZOFFSETFROM:+0100
TZOFFSETTO:+0200
TZNAME:CEST
DTSTART:20250330T010000
END:DAYLIGHT
BEGIN:STANDARD
TZOFFSETFROM:+0200
TZOFFSETTO:+0100
TZNAME:CET
DTSTART:20251026T010000
END:STANDARD
END:VTIMEZONE
BEGIN:VEVENT
DTSTART;VALUE=DATE:20240921
DTEND;VALUE=DATE:20240923
DTSTAMP:20260423T074138
CREATED:20231219T210742Z
LAST-MODIFIED:20240718T121227Z
UID:361-1726891200-1727049599@asso-medievale.fr
SUMMARY:Journée du patrimoine
DESCRIPTION:La Forest-Landerneau \n \nGRATUIT \nFACEBOOK \n 
URL:https://asso-medievale.fr/evenement/journee-du-patrimoine/
LOCATION:Landivisiau\, Parc de Kréac'h Kélenn\, Landivisiau\, 29400\, France
ORGANIZER;CN="Memoria Medieval Heram":MAILTO:asso.mmh29@gmail.com
END:VEVENT
END:VCALENDAR