BEGIN:VCALENDAR
VERSION:2.0
PRODID:-//Memoria Medieval Heram - ECPv6.15.16//NONSGML v1.0//EN
CALSCALE:GREGORIAN
METHOD:PUBLISH
X-WR-CALNAME:Memoria Medieval Heram
X-ORIGINAL-URL:https://asso-medievale.fr
X-WR-CALDESC:Évènements pour Memoria Medieval Heram
REFRESH-INTERVAL;VALUE=DURATION:PT1H
X-Robots-Tag:noindex
X-PUBLISHED-TTL:PT1H
BEGIN:VTIMEZONE
TZID:Europe/Paris
BEGIN:DAYLIGHT
TZOFFSETFROM:+0100
TZOFFSETTO:+0200
TZNAME:CEST
DTSTART:20240331T010000
END:DAYLIGHT
BEGIN:STANDARD
TZOFFSETFROM:+0200
TZOFFSETTO:+0100
TZNAME:CET
DTSTART:20241027T010000
END:STANDARD
BEGIN:DAYLIGHT
TZOFFSETFROM:+0100
TZOFFSETTO:+0200
TZNAME:CEST
DTSTART:20250330T010000
END:DAYLIGHT
BEGIN:STANDARD
TZOFFSETFROM:+0200
TZOFFSETTO:+0100
TZNAME:CET
DTSTART:20251026T010000
END:STANDARD
BEGIN:DAYLIGHT
TZOFFSETFROM:+0100
TZOFFSETTO:+0200
TZNAME:CEST
DTSTART:20260329T010000
END:DAYLIGHT
BEGIN:STANDARD
TZOFFSETFROM:+0200
TZOFFSETTO:+0100
TZNAME:CET
DTSTART:20261025T010000
END:STANDARD
END:VTIMEZONE
BEGIN:VEVENT
DTSTART;VALUE=DATE:20250517
DTEND;VALUE=DATE:20250518
DTSTAMP:20260422T203523
CREATED:20241122T063157Z
LAST-MODIFIED:20241126T214737Z
UID:499-1747454400-1747526399@asso-medievale.fr
SUMMARY:Draig'Fest (29)
DESCRIPTION:
URL:https://asso-medievale.fr/evenement/draigfest/
CATEGORIES:Concert
END:VEVENT
BEGIN:VEVENT
DTSTART;VALUE=DATE:20250517
DTEND;VALUE=DATE:20250519
DTSTAMP:20260422T203523
CREATED:20241122T063254Z
LAST-MODIFIED:20241126T214743Z
UID:501-1747454400-1747612799@asso-medievale.fr
SUMMARY:Le Cloître-Pleyben (29)
DESCRIPTION:
URL:https://asso-medievale.fr/evenement/le-cloitre-pleyben-29/
CATEGORIES:Médiévale
END:VEVENT
END:VCALENDAR