BEGIN:VCALENDAR
VERSION:2.0
PRODID:-//Memoria Medieval Heram - ECPv6.15.16//NONSGML v1.0//EN
CALSCALE:GREGORIAN
METHOD:PUBLISH
X-WR-CALNAME:Memoria Medieval Heram
X-ORIGINAL-URL:https://asso-medievale.fr
X-WR-CALDESC:Évènements pour Memoria Medieval Heram
REFRESH-INTERVAL;VALUE=DURATION:PT1H
X-Robots-Tag:noindex
X-PUBLISHED-TTL:PT1H
BEGIN:VTIMEZONE
TZID:Europe/Paris
BEGIN:DAYLIGHT
TZOFFSETFROM:+0100
TZOFFSETTO:+0200
TZNAME:CEST
DTSTART:20230326T010000
END:DAYLIGHT
BEGIN:STANDARD
TZOFFSETFROM:+0200
TZOFFSETTO:+0100
TZNAME:CET
DTSTART:20231029T010000
END:STANDARD
BEGIN:DAYLIGHT
TZOFFSETFROM:+0100
TZOFFSETTO:+0200
TZNAME:CEST
DTSTART:20240331T010000
END:DAYLIGHT
BEGIN:STANDARD
TZOFFSETFROM:+0200
TZOFFSETTO:+0100
TZNAME:CET
DTSTART:20241027T010000
END:STANDARD
BEGIN:DAYLIGHT
TZOFFSETFROM:+0100
TZOFFSETTO:+0200
TZNAME:CEST
DTSTART:20250330T010000
END:DAYLIGHT
BEGIN:STANDARD
TZOFFSETFROM:+0200
TZOFFSETTO:+0100
TZNAME:CET
DTSTART:20251026T010000
END:STANDARD
END:VTIMEZONE
BEGIN:VEVENT
DTSTART;VALUE=DATE:20240406
DTEND;VALUE=DATE:20240408
DTSTAMP:20260423T131438
CREATED:20231024T171202Z
LAST-MODIFIED:20231024T171514Z
UID:158-1712376000-1712534399@asso-medievale.fr
SUMMARY:Ar' Vran Fest
DESCRIPTION:
URL:https://asso-medievale.fr/evenement/ar-vran-fest/
LOCATION:Baguer-Pican\, Salle Intergénérationnelle 10 rue des Sports\, Baguer-Pican\, 35120\, France
CATEGORIES:Concert
END:VEVENT
BEGIN:VEVENT
DTSTART;VALUE=DATE:20240418
DTEND;VALUE=DATE:20240422
DTSTAMP:20260423T131438
CREATED:20231024T171451Z
LAST-MODIFIED:20231024T171451Z
UID:162-1713412800-1713743999@asso-medievale.fr
SUMMARY:Carnaval de Landerneau
DESCRIPTION:Vous y retrouverez l’équipe MMH avec son char
URL:https://asso-medievale.fr/evenement/carnaval-de-landerneau/
LOCATION:Landerneau\, Landerneau\, 29800\, France
CATEGORIES:Autre
END:VEVENT
BEGIN:VEVENT
DTSTART;VALUE=DATE:20240427
DTEND;VALUE=DATE:20240429
DTSTAMP:20260423T131438
CREATED:20231219T205313Z
LAST-MODIFIED:20231219T205313Z
UID:335-1714190400-1714348799@asso-medievale.fr
SUMMARY:Le marché médiéval – fantastique de Damgan
DESCRIPTION:
URL:https://asso-medievale.fr/evenement/le-marche-medieval-fantastique-de-damgan/
LOCATION:Damguan\, Maison des damganais Rue du Champ Creiss\, DAMGAN\, 56750\, France
END:VEVENT
END:VCALENDAR